BEGIN:VCALENDAR
VERSION:2.0
PRODID:spatie/icalendar-generator
DESCRIPTION:Events from World Impact Missions
X-WR-CALDESC:Events from World Impact Missions
REFRESH-INTERVAL;VALUE=DURATION:PT1440M
X-PUBLISHED-TTL:PT1440M
BEGIN:VTIMEZONE
TZID:Etc/GMT+0
BEGIN:STANDARD
DTSTART:20240625T180000Z
TZOFFSETFROM:+0000
TZOFFSETTO:+0000
END:STANDARD
END:VTIMEZONE
BEGIN:VTIMEZONE
TZID:UTC
BEGIN:STANDARD
DTSTART:20250723T180344Z
TZOFFSETFROM:+0000
TZOFFSETTO:+0000
END:STANDARD
END:VTIMEZONE
BEGIN:VEVENT
UID:2856-46
DTSTAMP:20260419T180344Z
SUMMARY:Doron Schneider - Aktuelle Lage Israels nach biblischen Heilsplan G
 ottes in der Bibel
LOCATION:
ORGANIZER;CN=Christian Tadday:MAILTO:christiantaday@gmx.de
DTSTART;TZID=Etc/GMT+0:20250322T180000
DTEND;TZID=Etc/GMT+0:20250322T200000
X-ALT-DESC;FMTTYPE=TEXT/HTML:
CATEGORIES:Special Events
URL;VALUE=URI:https://www.worldimpactmission.org/events/?mc_id=2856&#038;vc
 al=2856
METHOD:PUBLISH
END:VEVENT
END:VCALENDAR